{
 "currentVersion": 10.71,
 "serviceDescription": "",
 "mapName": "Layers",
 "description": "",
 "copyrightText": "",
 "supportsDynamicLayers": false,
 "layers": [
  {
   "id": 0,
   "name": "All scales",
   "parentLayerId": -1,
   "defaultVisibility": true,
   "subLayerIds": [
    1,
    2
   ],
   "minScale": 0,
   "maxScale": 0,
   "type": "Group Layer"
  },
  {
   "id": 1,
   "name": "LAKES_METRO_widezoom",
   "parentLayerId": 0,
   "defaultVisibility": true,
   "subLayerIds": null,
   "minScale": 0,
   "maxScale": 192000,
   "type": "Feature Layer",
   "geometryType": "esriGeometryPolygon"
  },
  {
   "id": 2,
   "name": "LAKES_METRO_closezoom",
   "parentLayerId": 0,
   "defaultVisibility": true,
   "subLayerIds": null,
   "minScale": 96000,
   "maxScale": 0,
   "type": "Feature Layer",
   "geometryType": "esriGeometryPolygon"
  },
  {
   "id": 3,
   "name": "Above 12K_forgrayhillshade",
   "parentLayerId": -1,
   "defaultVisibility": true,
   "subLayerIds": [
    4,
    12,
    17,
    18
   ],
   "minScale": 0,
   "maxScale": 0,
   "type": "Group Layer"
  },
  {
   "id": 4,
   "name": "Streets",
   "parentLayerId": 3,
   "defaultVisibility": true,
   "subLayerIds": [
    5,
    6,
    7,
    8,
    9,
    10,
    11
   ],
   "minScale": 0,
   "maxScale": 0,
   "type": "Group Layer"
  },
  {
   "id": 5,
   "name": "STREETS_WideZoom",
   "parentLayerId": 4,
   "defaultVisibility": true,
   "subLayerIds": null,
   "minScale": 48000,
   "maxScale": 24001,
   "type": "Feature Layer",
   "geometryType": "esriGeometryPolyline"
  },
  {
   "id": 6,
   "name": "STREETS_MedZoom",
   "parentLayerId": 4,
   "defaultVisibility": true,
   "subLayerIds": null,
   "minScale": 24000,
   "maxScale": 6001,
   "type": "Feature Layer",
   "geometryType": "esriGeometryPolyline"
  },
  {
   "id": 7,
   "name": "streets_NJDOT_localhighways",
   "parentLayerId": 4,
   "defaultVisibility": true,
   "subLayerIds": null,
   "minScale": 24000,
   "maxScale": 6001,
   "type": "Feature Layer",
   "geometryType": "esriGeometryPolyline"
  },
  {
   "id": 8,
   "name": "bridges",
   "parentLayerId": 4,
   "defaultVisibility": true,
   "subLayerIds": null,
   "minScale": 48000,
   "maxScale": 0,
   "type": "Feature Layer",
   "geometryType": "esriGeometryPolygon"
  },
  {
   "id": 9,
   "name": "STREETS_CloseZoom",
   "parentLayerId": 4,
   "defaultVisibility": true,
   "subLayerIds": null,
   "minScale": 12000,
   "maxScale": 11000,
   "type": "Feature Layer",
   "geometryType": "esriGeometryPolyline"
  },
  {
   "id": 10,
   "name": "streets_NJDOT_closezoom",
   "parentLayerId": 4,
   "defaultVisibility": true,
   "subLayerIds": null,
   "minScale": 48000,
   "maxScale": 0,
   "type": "Feature Layer",
   "geometryType": "esriGeometryPolyline"
  },
  {
   "id": 11,
   "name": "STREETS_NassWestCloseZoom",
   "parentLayerId": 4,
   "defaultVisibility": true,
   "subLayerIds": null,
   "minScale": 24005,
   "maxScale": 0,
   "type": "Feature Layer",
   "geometryType": "esriGeometryPolyline"
  },
  {
   "id": 12,
   "name": "Highways",
   "parentLayerId": 3,
   "defaultVisibility": true,
   "subLayerIds": [
    13,
    14,
    15,
    16
   ],
   "minScale": 0,
   "maxScale": 0,
   "type": "Group Layer"
  },
  {
   "id": 13,
   "name": "Interstate_WideZoom",
   "parentLayerId": 12,
   "defaultVisibility": true,
   "subLayerIds": null,
   "minScale": 48000,
   "maxScale": 24000,
   "type": "Feature Layer",
   "geometryType": "esriGeometryPolyline"
  },
  {
   "id": 14,
   "name": "LIE in Queens",
   "parentLayerId": 12,
   "defaultVisibility": true,
   "subLayerIds": null,
   "minScale": 48000,
   "maxScale": 24000,
   "type": "Feature Layer",
   "geometryType": "esriGeometryPolyline"
  },
  {
   "id": 15,
   "name": "Highways_WideZoom",
   "parentLayerId": 12,
   "defaultVisibility": true,
   "subLayerIds": null,
   "minScale": 48000,
   "maxScale": 24000,
   "type": "Feature Layer",
   "geometryType": "esriGeometryPolyline"
  },
  {
   "id": 16,
   "name": "streets_NJDOT_highways",
   "parentLayerId": 12,
   "defaultVisibility": true,
   "subLayerIds": null,
   "minScale": 48000,
   "maxScale": 0,
   "type": "Feature Layer",
   "geometryType": "esriGeometryPolyline"
  },
  {
   "id": 17,
   "name": "PIERS",
   "parentLayerId": 3,
   "defaultVisibility": true,
   "subLayerIds": null,
   "minScale": 0,
   "maxScale": 11999,
   "type": "Feature Layer",
   "geometryType": "esriGeometryPolygon"
  },
  {
   "id": 18,
   "name": "AIRPORTS",
   "parentLayerId": 3,
   "defaultVisibility": true,
   "subLayerIds": null,
   "minScale": 0,
   "maxScale": 6001,
   "type": "Feature Layer",
   "geometryType": "esriGeometryPolygon"
  },
  {
   "id": 19,
   "name": "All scales",
   "parentLayerId": -1,
   "defaultVisibility": true,
   "subLayerIds": [
    20,
    21,
    22,
    23,
    24
   ],
   "minScale": 0,
   "maxScale": 0,
   "type": "Group Layer"
  },
  {
   "id": 20,
   "name": "water_streams_doitt",
   "parentLayerId": 19,
   "defaultVisibility": true,
   "subLayerIds": null,
   "minScale": 0,
   "maxScale": 0,
   "type": "Feature Layer",
   "geometryType": "esriGeometryPolygon"
  },
  {
   "id": 21,
   "name": "NJ_BEACHES",
   "parentLayerId": 19,
   "defaultVisibility": true,
   "subLayerIds": null,
   "minScale": 0,
   "maxScale": 0,
   "type": "Feature Layer",
   "geometryType": "esriGeometryPolygon"
  },
  {
   "id": 22,
   "name": "BEACHES",
   "parentLayerId": 19,
   "defaultVisibility": true,
   "subLayerIds": null,
   "minScale": 0,
   "maxScale": 0,
   "type": "Feature Layer",
   "geometryType": "esriGeometryPolygon"
  },
  {
   "id": 23,
   "name": "WaterBackground_ESRI",
   "parentLayerId": 19,
   "defaultVisibility": true,
   "subLayerIds": null,
   "minScale": 0,
   "maxScale": 0,
   "type": "Feature Layer",
   "geometryType": "esriGeometryPolygon"
  },
  {
   "id": 24,
   "name": "water_detailed_Esri_gt1sqmi",
   "parentLayerId": 19,
   "defaultVisibility": false,
   "subLayerIds": null,
   "minScale": 0,
   "maxScale": 0,
   "type": "Feature Layer",
   "geometryType": "esriGeometryPolygon"
  },
  {
   "id": 25,
   "name": "Above 12K_Hillshade",
   "parentLayerId": -1,
   "defaultVisibility": true,
   "subLayerIds": [
    26
   ],
   "minScale": 0,
   "maxScale": 0,
   "type": "Group Layer"
  },
  {
   "id": 26,
   "name": "Hillshade_testing",
   "parentLayerId": 25,
   "defaultVisibility": true,
   "subLayerIds": null,
   "minScale": 0,
   "maxScale": 11000,
   "type": "Raster Layer"
  },
  {
   "id": 27,
   "name": "12K and below_TRN gray",
   "parentLayerId": -1,
   "defaultVisibility": true,
   "subLayerIds": [
    28,
    29,
    30
   ],
   "minScale": 0,
   "maxScale": 0,
   "type": "Group Layer"
  },
  {
   "id": 28,
   "name": "BUILDINGS_6k_Christy",
   "parentLayerId": 27,
   "defaultVisibility": false,
   "subLayerIds": null,
   "minScale": 6005,
   "maxScale": 0,
   "type": "Feature Layer",
   "geometryType": "esriGeometryPolygon"
  },
  {
   "id": 29,
   "name": "buildings_2018_doitt",
   "parentLayerId": 27,
   "defaultVisibility": true,
   "subLayerIds": null,
   "minScale": 6005,
   "maxScale": 0,
   "type": "Feature Layer",
   "geometryType": "esriGeometryPolygon"
  },
  {
   "id": 30,
   "name": "BlockCurbMask",
   "parentLayerId": 27,
   "defaultVisibility": true,
   "subLayerIds": [
    31,
    32,
    33,
    34,
    35,
    36,
    37,
    38,
    39
   ],
   "minScale": 0,
   "maxScale": 0,
   "type": "Group Layer"
  },
  {
   "id": 31,
   "name": "curbcuts",
   "parentLayerId": 30,
   "defaultVisibility": true,
   "subLayerIds": null,
   "minScale": 11999,
   "maxScale": 0,
   "type": "Feature Layer",
   "geometryType": "esriGeometryPolyline"
  },
  {
   "id": 32,
   "name": "NYCBasemap.SDE.streets_SIDEWALK_doitt_20142016",
   "parentLayerId": 30,
   "defaultVisibility": true,
   "subLayerIds": null,
   "minScale": 11999,
   "maxScale": 0,
   "type": "Feature Layer",
   "geometryType": "esriGeometryPolygon"
  },
  {
   "id": 33,
   "name": "Interstate_CloseZoom",
   "parentLayerId": 30,
   "defaultVisibility": true,
   "subLayerIds": null,
   "minScale": 11999,
   "maxScale": 6001,
   "type": "Feature Layer",
   "geometryType": "esriGeometryPolyline"
  },
  {
   "id": 34,
   "name": "Highways_CloseZoom",
   "parentLayerId": 30,
   "defaultVisibility": true,
   "subLayerIds": null,
   "minScale": 11999,
   "maxScale": 6001,
   "type": "Feature Layer",
   "geometryType": "esriGeometryPolyline"
  },
  {
   "id": 35,
   "name": "Roadbed",
   "parentLayerId": 30,
   "defaultVisibility": true,
   "subLayerIds": null,
   "minScale": 11999,
   "maxScale": 0,
   "type": "Feature Layer",
   "geometryType": "esriGeometryPolygon"
  },
  {
   "id": 36,
   "name": "bridges",
   "parentLayerId": 30,
   "defaultVisibility": true,
   "subLayerIds": null,
   "minScale": 11999,
   "maxScale": 0,
   "type": "Feature Layer",
   "geometryType": "esriGeometryPolygon"
  },
  {
   "id": 37,
   "name": "pluto.SDE.MapPLUTOblocks",
   "parentLayerId": 30,
   "defaultVisibility": true,
   "subLayerIds": null,
   "minScale": 11999,
   "maxScale": 0,
   "type": "Feature Layer",
   "geometryType": "esriGeometryPolygon"
  },
  {
   "id": 38,
   "name": "PIERS",
   "parentLayerId": 30,
   "defaultVisibility": true,
   "subLayerIds": null,
   "minScale": 6001,
   "maxScale": 0,
   "type": "Feature Layer",
   "geometryType": "esriGeometryPolygon"
  },
  {
   "id": 39,
   "name": "nycbasemap.SDE.boros_doitt",
   "parentLayerId": 30,
   "defaultVisibility": false,
   "subLayerIds": null,
   "minScale": 11999,
   "maxScale": 0,
   "type": "Feature Layer",
   "geometryType": "esriGeometryPolygon"
  },
  {
   "id": 40,
   "name": "WaterBackground_ESRI",
   "parentLayerId": -1,
   "defaultVisibility": true,
   "subLayerIds": null,
   "minScale": 0,
   "maxScale": 0,
   "type": "Feature Layer",
   "geometryType": "esriGeometryPolygon"
  },
  {
   "id": 41,
   "name": "oasis.SDE.backdrop_Gray",
   "parentLayerId": -1,
   "defaultVisibility": false,
   "subLayerIds": null,
   "minScale": 0,
   "maxScale": 0,
   "type": "Feature Layer",
   "geometryType": "esriGeometryPolygon"
  }
 ],
 "tables": [],
 "spatialReference": {
  "wkid": 102718,
  "latestWkid": 2263
 },
 "singleFusedMapCache": true,
 "tileInfo": {
  "rows": 256,
  "cols": 256,
  "dpi": 96,
  "format": "PNG",
  "compressionQuality": 0,
  "origin": {
   "x": -120039300,
   "y": 145506800
  },
  "spatialReference": {
   "wkid": 102718,
   "latestWkid": 2263
  },
  "lods": [
   {
    "level": 0,
    "resolution": 868.0555555555555,
    "scale": 1000000
   },
   {
    "level": 1,
    "resolution": 434.02777777777777,
    "scale": 500000
   },
   {
    "level": 2,
    "resolution": 217.01388888888889,
    "scale": 250000
   },
   {
    "level": 3,
    "resolution": 108.50694444444444,
    "scale": 125000
   },
   {
    "level": 4,
    "resolution": 54.25347222222222,
    "scale": 62500
   },
   {
    "level": 5,
    "resolution": 27.12673611111111,
    "scale": 31250
   },
   {
    "level": 6,
    "resolution": 13.563368055555555,
    "scale": 15625
   },
   {
    "level": 7,
    "resolution": 6.781684027777778,
    "scale": 7812.5
   },
   {
    "level": 8,
    "resolution": 3.390842013888889,
    "scale": 3906.25
   },
   {
    "level": 9,
    "resolution": 1.6954210069444444,
    "scale": 1953.125
   }
  ]
 },
 "initialExtent": {
  "xmin": 864289.1131578947,
  "ymin": 196269.8805109592,
  "xmax": 1112848.8868421053,
  "ymax": 299122.20065614977,
  "spatialReference": {
   "wkid": 102718,
   "latestWkid": 2263
  }
 },
 "fullExtent": {
  "xmin": 698088.2755898023,
  "ymin": -12747.60926137329,
  "xmax": 1276088.2755898023,
  "ymax": 405252.3907386267,
  "spatialReference": {
   "wkid": 102718,
   "latestWkid": 2263
  }
 },
 "minScale": 1953.125,
 "maxScale": 1953.125,
 "units": "esriFeet",
 "supportedImageFormatTypes": "PNG32,PNG24,PNG,JPG,DIB,TIFF,EMF,PS,PDF,GIF,SVG,SVGZ,BMP",
 "documentInfo": {
  "Title": "",
  "Author": "",
  "Comments": "",
  "Subject": "",
  "Category": "",
  "AntialiasingMode": "Best",
  "TextAntialiasingMode": "Force",
  "Keywords": ""
 },
 "capabilities": "Map,Query,Data",
 "supportedQueryFormats": "JSON, geoJSON",
 "exportTilesAllowed": false,
 "datumTransformations": [
  {
   "geoTransforms": [
    {
     "wkid": 108001,
     "latestWkid": 1241,
     "transformForward": true,
     "name": "NAD_1927_To_NAD_1983_NADCON"
    }
   ]
  },
  {
   "geoTransforms": [
    {
     "wkid": 108001,
     "latestWkid": 1241,
     "transformForward": false,
     "name": "NAD_1927_To_NAD_1983_NADCON"
    }
   ]
  }
 ],
 "supportsDatumTransformation": true,
 "maxRecordCount": 1000,
 "maxImageHeight": 4096,
 "maxImageWidth": 4096,
 "supportedExtensions": ""
}
