{
 "currentVersion": 10.71,
 "serviceDescription": "",
 "mapName": "Layers",
 "description": "",
 "copyrightText": "",
 "supportsDynamicLayers": false,
 "layers": [
  {
   "id": 0,
   "name": "Stations",
   "parentLayerId": -1,
   "defaultVisibility": true,
   "subLayerIds": [
    1,
    2
   ],
   "minScale": 0,
   "maxScale": 0,
   "type": "Group Layer"
  },
  {
   "id": 1,
   "name": "SUBWAY_STATIONS_WIDEZOOM",
   "parentLayerId": 0,
   "defaultVisibility": true,
   "subLayerIds": null,
   "minScale": 48000,
   "maxScale": 12001,
   "type": "Feature Layer",
   "geometryType": "esriGeometryPoint"
  },
  {
   "id": 2,
   "name": "SUBWAY_STATIONS_CLOSEZOOM",
   "parentLayerId": 0,
   "defaultVisibility": true,
   "subLayerIds": null,
   "minScale": 12000,
   "maxScale": 0,
   "type": "Feature Layer",
   "geometryType": "esriGeometryPoint"
  },
  {
   "id": 3,
   "name": "Routes",
   "parentLayerId": -1,
   "defaultVisibility": true,
   "subLayerIds": [
    4,
    5
   ],
   "minScale": 0,
   "maxScale": 0,
   "type": "Group Layer"
  },
  {
   "id": 4,
   "name": "SUBWAY_ROUTES_WideZoom",
   "parentLayerId": 3,
   "defaultVisibility": true,
   "subLayerIds": null,
   "minScale": 0,
   "maxScale": 12001,
   "type": "Feature Layer",
   "geometryType": "esriGeometryPolyline"
  },
  {
   "id": 5,
   "name": "SUBWAY_CloseZoom",
   "parentLayerId": 3,
   "defaultVisibility": true,
   "subLayerIds": null,
   "minScale": 12000,
   "maxScale": 0,
   "type": "Feature Layer",
   "geometryType": "esriGeometryPolyline"
  }
 ],
 "tables": [],
 "spatialReference": {
  "wkid": 102718,
  "latestWkid": 2263
 },
 "singleFusedMapCache": true,
 "tileInfo": {
  "rows": 256,
  "cols": 256,
  "dpi": 96,
  "format": "PNG",
  "compressionQuality": 0,
  "origin": {
   "x": -120039300,
   "y": 145506800
  },
  "spatialReference": {
   "wkid": 102718,
   "latestWkid": 2263
  },
  "lods": [
   {
    "level": 0,
    "resolution": 333.3333333333333,
    "scale": 384000
   },
   {
    "level": 1,
    "resolution": 166.66666666666666,
    "scale": 192000
   },
   {
    "level": 2,
    "resolution": 83.33333333333333,
    "scale": 96000
   },
   {
    "level": 3,
    "resolution": 41.666666666666664,
    "scale": 48000
   },
   {
    "level": 4,
    "resolution": 20.833333333333332,
    "scale": 24000
   },
   {
    "level": 5,
    "resolution": 10.416666666666666,
    "scale": 12000
   },
   {
    "level": 6,
    "resolution": 5.208333333333333,
    "scale": 6000
   },
   {
    "level": 7,
    "resolution": 2.6041666666666665,
    "scale": 3000
   },
   {
    "level": 8,
    "resolution": 1.3020833333333333,
    "scale": 1500
   }
  ]
 },
 "initialExtent": {
  "xmin": 853409.7041612309,
  "ymin": 188448.8193100553,
  "xmax": 1144516.847018374,
  "ymax": 294305.9621671982,
  "spatialReference": {
   "wkid": 102718,
   "latestWkid": 2263
  }
 },
 "fullExtent": {
  "xmin": 747829.3889365493,
  "ymin": 58585.72407196002,
  "xmax": 1228347.162243055,
  "ymax": 337252.39073862665,
  "spatialReference": {
   "wkid": 102718,
   "latestWkid": 2263
  }
 },
 "minScale": 384000,
 "maxScale": 1500,
 "units": "esriFeet",
 "supportedImageFormatTypes": "PNG32,PNG24,PNG,JPG,DIB,TIFF,EMF,PS,PDF,GIF,SVG,SVGZ,BMP",
 "documentInfo": {
  "Title": "OASIS_MXDtest3",
  "Author": "sromalewski",
  "Comments": "",
  "Subject": "",
  "Category": "",
  "AntialiasingMode": "Best",
  "TextAntialiasingMode": "Force",
  "Keywords": ""
 },
 "capabilities": "Map,Query,Data",
 "supportedQueryFormats": "JSON, geoJSON",
 "exportTilesAllowed": false,
 "datumTransformations": [
  {
   "geoTransforms": [
    {
     "wkid": 108001,
     "latestWkid": 1241,
     "transformForward": true,
     "name": "NAD_1927_To_NAD_1983_NADCON"
    }
   ]
  },
  {
   "geoTransforms": [
    {
     "wkid": 108001,
     "latestWkid": 1241,
     "transformForward": false,
     "name": "NAD_1927_To_NAD_1983_NADCON"
    }
   ]
  }
 ],
 "supportsDatumTransformation": true,
 "maxRecordCount": 1000,
 "maxImageHeight": 4096,
 "maxImageWidth": 4096,
 "supportedExtensions": ""
}
