View In:
ArcGIS JavaScript
ArcGIS Online Map Viewer
ArcGIS Earth
ArcMap
View Footprint In:
ArcGIS Online Map Viewer
Service Description: HTC2020/TEA_2020_image
Name: HTC2020/TEA_2020_image
Description:
Single Fused Map Cache: false
Extent:
XMin: -1.9942580788400006E7
YMin: 2023651.597840963
XMax: 2.0012819211599994E7
YMax: 1.1537051597840963E7
Spatial Reference: 102100
(3857)
Initial Extent:
XMin: -1.9942580788400006E7
YMin: 2023651.597840963
XMax: 2.0012819211599994E7
YMax: 1.1537051597840963E7
Spatial Reference: 102100
(3857)
Full Extent:
XMin: -1.9942580788400006E7
YMin: 2023651.597840963
XMax: 2.0012819211599994E7
YMax: 1.1537051597840963E7
Spatial Reference: 102100
(3857)
Pixel Size X: 100.0
Pixel Size Y: 100.0
Band Count: 1
Pixel Type: U4
RasterFunction Infos: {"rasterFunctionInfos": [{
"name": "None",
"description": "",
"help": ""
}]}
Mensuration Capabilities: Basic
Has Histograms: false
Has Colormap: false
Has Multi Dimensions : false
Rendering Rule:
Min Scale: 0
Max Scale: 0
Copyright Text:
Service Data Type: esriImageServiceDataTypeGeneric
Min Values: N/A
Max Values: N/A
Mean Values: N/A
Standard Deviation Values: N/A
Object ID Field:
Fields:
None
Default Mosaic Method: Center
Allowed Mosaic Methods:
SortField:
SortValue: null
Mosaic Operator: First
Default Compression Quality: 75
Default Resampling Method: Bilinear
Max Record Count: null
Max Image Height: 4100
Max Image Width: 15000
Max Download Image Count: null
Max Mosaic Image Count: null
Allow Raster Function: true
Allow Compute TiePoints: false
Supports Statistics: false
Supports Advanced Queries: false
Use StandardizedQueries: true
Raster Type Infos:
Name: Raster Dataset
Description: Supports all ArcGIS Raster Datasets
Help:
Has Raster Attribute Table: true
Edit Fields Info: null
Ownership Based AccessControl For Rasters: null
Child Resources:
Info
Raster Attribute Table
Key Properties
Legend
MultiDimensionalInfo
rasterFunctionInfos
Supported Operations:
Export Image
Identify
Measure
Compute Histograms
Compute Statistics Histograms
Get Samples
Compute Class Statistics
Query Boundary
Compute Pixel Location